BEGIN:VCALENDAR
VERSION:2.0
PRODID:-//IFPA  - ECPv6.15.20//NONSGML v1.0//EN
CALSCALE:GREGORIAN
METHOD:PUBLISH
X-WR-CALNAME:IFPA 
X-ORIGINAL-URL:http://ifpa-iofs.com
X-WR-CALDESC:Events for IFPA 
REFRESH-INTERVAL;VALUE=DURATION:PT1H
X-Robots-Tag:noindex
X-PUBLISHED-TTL:PT1H
BEGIN:VTIMEZONE
TZID:UTC
BEGIN:STANDARD
TZOFFSETFROM:+0000
TZOFFSETTO:+0000
TZNAME:UTC
DTSTART:20220101T000000
END:STANDARD
END:VTIMEZONE
BEGIN:VEVENT
DTSTART;TZID=UTC:20231103T080000
DTEND;TZID=UTC:20231103T170000
DTSTAMP:20260422T124620
CREATED:20240426T095718Z
LAST-MODIFIED:20240429T062352Z
UID:2121-1698998400-1699030800@ifpa-iofs.com
SUMMARY:IFPA\, Kyrgyzstan Union of Berry Growers collaborates in Bishkek
DESCRIPTION:IFPA and its parent organization collaborated with the Kyrgyzstan Union of Berry Growers in Bishkek to enhance fresh strawberry exports to OIC countries. Strategies for fruitful collaboration were discussed\, including involvement in IOFS projects.’
URL:http://ifpa-iofs.com/event/ifpa-meets-with-the-kazakh-research-institute-of-food-processing/
ATTACH;FMTTYPE=image/jpeg:http://ifpa-iofs.com/wp-content/uploads/2024/04/November-3-2023-IFPA-collaborates-with-the-Kyrgyzstan-Union-of-Berry-Growers-in-Bishkek.jpeg
END:VEVENT
BEGIN:VEVENT
DTSTART;TZID=UTC:20231101T080000
DTEND;TZID=UTC:20231103T170000
DTSTAMP:20260422T124620
CREATED:20240426T095445Z
LAST-MODIFIED:20240429T062431Z
UID:2118-1698825600-1699030800@ifpa-iofs.com
SUMMARY:IFPA Joins 25th Central Asian Agri-Food Exhibition in Kazakhstan
DESCRIPTION:IFPA participated in the prestigious 25th Central Asian Agri-Food Exhibition in Kazakhstan\, showcasing its presence and engagement in the region’s agricultural and food industry.
URL:http://ifpa-iofs.com/event/ifpa-collaborates-with-the-kyrgyzstan-union-of-berry-growers/
ATTACH;FMTTYPE=image/jpeg:http://ifpa-iofs.com/wp-content/uploads/2024/04/November-1-3-2023-IFPA-participates-in-the-25th-Central-Asian-International-Exhibition.jpeg
END:VEVENT
BEGIN:VEVENT
DTSTART;TZID=UTC:20231027T080000
DTEND;TZID=UTC:20231027T170000
DTSTAMP:20260422T124620
CREATED:20240426T095301Z
LAST-MODIFIED:20240429T062630Z
UID:2115-1698393600-1698426000@ifpa-iofs.com
SUMMARY:Kuwaiti Delegation Meets IOFS to Discuss Strategic Goals
DESCRIPTION:The Islamic Organization for Food Security (IOFS) welcomed a distinguished delegation from Kuwait in Astana. Discussions focused on strategic endeavors\, highlighting mutual support and cooperation for enhancing food security within OIC member states.
URL:http://ifpa-iofs.com/event/ifpa-participates-in-the-25th-central-asian-international-exhibition/
ATTACH;FMTTYPE=image/jpeg:http://ifpa-iofs.com/wp-content/uploads/2024/04/October-Specific-Date-Not-Provided-Meeting-between-a-Kuwaiti-delegation.jpeg
END:VEVENT
BEGIN:VEVENT
DTSTART;TZID=UTC:20231020T080000
DTEND;TZID=UTC:20231020T170000
DTSTAMP:20260422T124620
CREATED:20240426T095127Z
LAST-MODIFIED:20240428T075232Z
UID:2112-1697788800-1697821200@ifpa-iofs.com
SUMMARY:IOFS and FARMONIX Sign MoU at Food Security Forum
DESCRIPTION:This collaboration aims to improve sustainable agriculture\, rural development\, and food security by focusing on areas like biotechnology\, food reserves\, and Islamic finance for agribusiness. The partnership targets poverty reduction\, environmental challenges\, and supporting agricultural development.
URL:http://ifpa-iofs.com/event/iofs-and-farmonix-sign-a-memorandum/
ATTACH;FMTTYPE=image/jpeg:http://ifpa-iofs.com/wp-content/uploads/2024/04/October-20-2023-IOFS-and-FARMONIX.jpeg
END:VEVENT
BEGIN:VEVENT
DTSTART;TZID=UTC:20231007T080000
DTEND;TZID=UTC:20231007T170000
DTSTAMP:20260422T124620
CREATED:20240426T094908Z
LAST-MODIFIED:20240428T075135Z
UID:2108-1696665600-1696698000@ifpa-iofs.com
SUMMARY:6th IOFS General Assembly - Doha\, Qatar
DESCRIPTION:The Islamic Organization for Food Security’s 6th General Assembly in Doha\, Qatar\, united over 40 member states. This high-level meeting emphasized the organization’s dedication to tackling global food security challenges and agricultural advancements.
URL:http://ifpa-iofs.com/event/6th-islamic-organization-for-food-security-iofs-general-assembly/
ATTACH;FMTTYPE=image/jpeg:http://ifpa-iofs.com/wp-content/uploads/2024/04/October-72023-6th-Islamic-Organization-for-Food-Security-IOFS-General-Assembly-Doha.jpeg
END:VEVENT
BEGIN:VEVENT
DTSTART;TZID=UTC:20231001T080000
DTEND;TZID=UTC:20231003T170000
DTSTAMP:20260422T124620
CREATED:20240426T094710Z
LAST-MODIFIED:20240428T075059Z
UID:2105-1696147200-1696352400@ifpa-iofs.com
SUMMARY:MoU signing between IOFS and DIHAD Organisation
DESCRIPTION:This partnership aims to strengthen humanitarian aid and development efforts. The MoU focuses on combining resources and expertise to deliver swift and effective assistance to crisis-stricken communities\, while also promoting long-term sustainable development.
URL:http://ifpa-iofs.com/event/mou-signing-between-iofs-and-dihad-organisation/
ATTACH;FMTTYPE=image/jpeg:http://ifpa-iofs.com/wp-content/uploads/2024/04/MoU-signing-between-IOFS-and-DIHAD-Organisation.jpeg
END:VEVENT
BEGIN:VEVENT
DTSTART;TZID=UTC:20231001T080000
DTEND;TZID=UTC:20231003T170000
DTSTAMP:20260422T124620
CREATED:20240426T094549Z
LAST-MODIFIED:20240428T075000Z
UID:2102-1696147200-1696352400@ifpa-iofs.com
SUMMARY:IOFS\, D-8 Organization for Economic Cooperation signs MoU
DESCRIPTION:In a bid to bolster agricultural cooperation\, the Developing Eight (D-8) signed a pact with the IOFS. This MoU paves the way for collaboration in areas like fisheries\, capacity building\, youth employment\, and climate-smart agriculture.
URL:http://ifpa-iofs.com/event/mou-signing-between-iofs-and-d-8-organization-for-economic-cooperation/
ATTACH;FMTTYPE=image/jpeg:http://ifpa-iofs.com/wp-content/uploads/2024/04/MoU-signing-between-IOFS-and-D-8-Organization-for-Economic-Cooperation.jpeg
END:VEVENT
BEGIN:VEVENT
DTSTART;TZID=UTC:20231001T080000
DTEND;TZID=UTC:20231003T170000
DTSTAMP:20260422T124620
CREATED:20240426T094353Z
LAST-MODIFIED:20240428T074923Z
UID:2099-1696147200-1696352400@ifpa-iofs.com
SUMMARY:2nd IOFS Food Security Forum: Doha\, Qatar
DESCRIPTION:IOFS held a prestigious ceremony in Doha\, Qatar to launch the 2nd High-Level Forum. Over 150 participants from around the world gathered to discuss critical issues in food security and sustainable agriculture.
URL:http://ifpa-iofs.com/event/2nd-iofs-high-level-forum-on-food-security/
ATTACH;FMTTYPE=image/jpeg:http://ifpa-iofs.com/wp-content/uploads/2024/04/October-1-3-2023-2nd-IOFS-High-Level-Forum-on-Food-Security-Doha-Qatar.jpeg
END:VEVENT
BEGIN:VEVENT
DTSTART;TZID=UTC:20230921T080000
DTEND;TZID=UTC:20230921T170000
DTSTAMP:20260422T124620
CREATED:20240426T085859Z
LAST-MODIFIED:20240428T074800Z
UID:2096-1695283200-1695315600@ifpa-iofs.com
SUMMARY:Kyrgyzstan Joins IFPA\, Expanding to 24 Countries
DESCRIPTION:IFPA) along with its parent organization\, partnered with their honorary member\, the Kyrgyzstan Union of Berry Growers\, in Bishkek. This collaboration aimed to boost Kyrgyz strawberry exports to OIC countries.
URL:http://ifpa-iofs.com/event/kyrgyzstan-association-of-berry-growers-joins-ifpa/
ATTACH;FMTTYPE=image/jpeg:http://ifpa-iofs.com/wp-content/uploads/2024/04/September-21-2023-Kyrgyzstan-Association-of-Berry-Growers.jpeg
END:VEVENT
BEGIN:VEVENT
DTSTART;TZID=UTC:20230623T080000
DTEND;TZID=UTC:20230623T170000
DTSTAMP:20260422T124620
CREATED:20240424T120153Z
LAST-MODIFIED:20240428T074651Z
UID:1866-1687507200-1687539600@ifpa-iofs.com
SUMMARY:11th Executive Board Meeting of IOFS
DESCRIPTION:IOFS held its 11th Executive Board meeting in Astana\, Kazakhstan where representatives from member states discussed the organization’s work in 2022 and preparations for the 6th General Assembly in Doha\, Qatar.
URL:http://ifpa-iofs.com/event/gulfood-breakfast-meeting-2/
ATTACH;FMTTYPE=image/jpeg:http://ifpa-iofs.com/wp-content/uploads/2024/04/June-23-2023-11th-IOFS-Executive-Board-Meeting-convenes-in-Astana.jpeg
END:VEVENT
BEGIN:VEVENT
DTSTART;TZID=UTC:20230214T080000
DTEND;TZID=UTC:20230214T170000
DTSTAMP:20260422T124620
CREATED:20240429T063045Z
LAST-MODIFIED:20240429T063045Z
UID:2358-1676361600-1676394000@ifpa-iofs.com
SUMMARY:IFPA\, Biohumus Forge Food Security Ties
DESCRIPTION:During the Afghanistan Agro Business & Investment Forum\, IFPA and Biohumus Tehnoloji A.S. signed a Corporate Membership Agreement\, aiming to bolster food security and promote advanced organic fertilizer production technology.
URL:http://ifpa-iofs.com/event/ifpa-biohumus-forge-food-security-ties/
ATTACH;FMTTYPE=image/jpeg:http://ifpa-iofs.com/wp-content/uploads/2024/04/February-22-2024-All-Pakistan-Meat-Exporters-and-Processors-Association-1.jpeg
END:VEVENT
END:VCALENDAR